Workbook

Sheet Stock
A1: Control de stock: entradas, salidas y mínimos
A2: Da de alta tus productos aquí (casillas amarillas) y apunta cada entrada o salida en la hoja «Movimientos». Las azules se calculan solas: el stock actual y si toca pedir.
A4: Código | B4: Producto | C4: Categoría | D4: Proveedor | E4: Stock inicial | F4: Entradas | G4: Salidas | H4: Stock actual | I4: Mínimo | J4: ¿Pedir? | K4: Coste por unidad | L4: Valor del stock
F5: =IF(A5="","",SUMIFS(Movimientos!$E:$E,Movimientos!$B:$B,A5,Movimientos!$D:$D,"Entrada")) | G5: =IF(A5="","",SUMIFS(Movimientos!$E:$E,Movimientos!$B:$B,A5,Movimientos!$D:$D,"Salida")) | H5: =IF(A5="","",N(E5)+F5-G5) | J5: =IF(OR(A5="",I5=""),"",IF(H5<=I5,"Pedir","")) | L5: =IF(OR(H5="",K5=""),"",H5*K5)
F6: =IF(A6="","",SUMIFS(Movimientos!$E:$E,Movimientos!$B:$B,A6,Movimientos!$D:$D,"Entrada")) | G6: =IF(A6="","",SUMIFS(Movimientos!$E:$E,Movimientos!$B:$B,A6,Movimientos!$D:$D,"Salida")) | H6: =IF(A6="","",N(E6)+F6-G6) | J6: =IF(OR(A6="",I6=""),"",IF(H6<=I6,"Pedir","")) | L6: =IF(OR(H6="",K6=""),"",H6*K6)
F7: =IF(A7="","",SUMIFS(Movimientos!$E:$E,Movimientos!$B:$B,A7,Movimientos!$D:$D,"Entrada")) | G7: =IF(A7="","",SUMIFS(Movimientos!$E:$E,Movimientos!$B:$B,A7,Movimientos!$D:$D,"Salida")) | H7: =IF(A7="","",N(E7)+F7-G7) | J7: =IF(OR(A7="",I7=""),"",IF(H7<=I7,"Pedir","")) | L7: =IF(OR(H7="",K7=""),"",H7*K7)
F8: =IF(A8="","",SUMIFS(Movimientos!$E:$E,Movimientos!$B:$B,A8,Movimientos!$D:$D,"Entrada")) | G8: =IF(A8="","",SUMIFS(Movimientos!$E:$E,Movimientos!$B:$B,A8,Movimientos!$D:$D,"Salida")) | H8: =IF(A8="","",N(E8)+F8-G8) | J8: =IF(OR(A8="",I8=""),"",IF(H8<=I8,"Pedir","")) | L8: =IF(OR(H8="",K8=""),"",H8*K8)
F9: =IF(A9="","",SUMIFS(Movimientos!$E:$E,Movimientos!$B:$B,A9,Movimientos!$D:$D,"Entrada")) | G9: =IF(A9="","",SUMIFS(Movimientos!$E:$E,Movimientos!$B:$B,A9,Movimientos!$D:$D,"Salida")) | H9: =IF(A9="","",N(E9)+F9-G9) | J9: =IF(OR(A9="",I9=""),"",IF(H9<=I9,"Pedir","")) | L9: =IF(OR(H9="",K9=""),"",H9*K9)
F10: =IF(A10="","",SUMIFS(Movimientos!$E:$E,Movimientos!$B:$B,A10,Movimientos!$D:$D,"Entrada")) | G10: =IF(A10="","",SUMIFS(Movimientos!$E:$E,Movimientos!$B:$B,A10,Movimientos!$D:$D,"Salida")) | H10: =IF(A10="","",N(E10)+F10-G10) | J10: =IF(OR(A10="",I10=""),"",IF(H10<=I10,"Pedir","")) | L10: =IF(OR(H10="",K10=""),"",H10*K10)
F11: =IF(A11="","",SUMIFS(Movimientos!$E:$E,Movimientos!$B:$B,A11,Movimientos!$D:$D,"Entrada")) | G11: =IF(A11="","",SUMIFS(Movimientos!$E:$E,Movimientos!$B:$B,A11,Movimientos!$D:$D,"Salida")) | H11: =IF(A11="","",N(E11)+F11-G11) | J11: =IF(OR(A11="",I11=""),"",IF(H11<=I11,"Pedir","")) | L11: =IF(OR(H11="",K11=""),"",H11*K11)
F12: =IF(A12="","",SUMIFS(Movimientos!$E:$E,Movimientos!$B:$B,A12,Movimientos!$D:$D,"Entrada")) | G12: =IF(A12="","",SUMIFS(Movimientos!$E:$E,Movimientos!$B:$B,A12,Movimientos!$D:$D,"Salida")) | H12: =IF(A12="","",N(E12)+F12-G12) | J12: =IF(OR(A12="",I12=""),"",IF(H12<=I12,"Pedir","")) | L12: =IF(OR(H12="",K12=""),"",H12*K12)
F13: =IF(A13="","",SUMIFS(Movimientos!$E:$E,Movimientos!$B:$B,A13,Movimientos!$D:$D,"Entrada")) | G13: =IF(A13="","",SUMIFS(Movimientos!$E:$E,Movimientos!$B:$B,A13,Movimientos!$D:$D,"Salida")) | H13: =IF(A13="","",N(E13)+F13-G13) | J13: =IF(OR(A13="",I13=""),"",IF(H13<=I13,"Pedir","")) | L13: =IF(OR(H13="",K13=""),"",H13*K13)
F14: =IF(A14="","",SUMIFS(Movimientos!$E:$E,Movimientos!$B:$B,A14,Movimientos!$D:$D,"Entrada")) | G14: =IF(A14="","",SUMIFS(Movimientos!$E:$E,Movimientos!$B:$B,A14,Movimientos!$D:$D,"Salida")) | H14: =IF(A14="","",N(E14)+F14-G14) | J14: =IF(OR(A14="",I14=""),"",IF(H14<=I14,"Pedir","")) | L14: =IF(OR(H14="",K14=""),"",H14*K14)
F15: =IF(A15="","",SUMIFS(Movimientos!$E:$E,Movimientos!$B:$B,A15,Movimientos!$D:$D,"Entrada")) | G15: =IF(A15="","",SUMIFS(Movimientos!$E:$E,Movimientos!$B:$B,A15,Movimientos!$D:$D,"Salida")) | H15: =IF(A15="","",N(E15)+F15-G15) | J15: =IF(OR(A15="",I15=""),"",IF(H15<=I15,"Pedir","")) | L15: =IF(OR(H15="",K15=""),"",H15*K15)
F16: =IF(A16="","",SUMIFS(Movimientos!$E:$E,Movimientos!$B:$B,A16,Movimientos!$D:$D,"Entrada")) | G16: =IF(A16="","",SUMIFS(Movimientos!$E:$E,Movimientos!$B:$B,A16,Movimientos!$D:$D,"Salida")) | H16: =IF(A16="","",N(E16)+F16-G16) | J16: =IF(OR(A16="",I16=""),"",IF(H16<=I16,"Pedir","")) | L16: =IF(OR(H16="",K16=""),"",H16*K16)
... F304: =IF(A304="","",SUMIFS(Movimientos!$E:$E,Movimientos!$B:$B,A304,Movimientos!$D:$D,"Entrada")) | G304: =IF(A304="","",SUMIFS(Movimientos!$E:$E,Movimientos!$B:$B,A304,Movimientos!$D:$D,"Salida")) | H304: =IF(A304="","",N(E304)+F304-G304) | J304: =IF(OR(A304="",I304=""),"",IF(H304<=I304,"Pedir","")) | L304: =IF(OR(H304="",K304=""),"",H304*K304)
K306: Total | L306: =SUM(L5:L304)
A308: Plantilla gratis de GestorTPV · gestortpv.com/guias/control-de-stock-excel/

Sheet Movimientos
A1: Movimientos de stock
A2: Una línea por cada entrada (lo que llega del proveedor, una devolución) o salida (una venta, una rotura, un regalo).
A4: Fecha | B4: Código | C4: Producto | D4: Entrada o salida | E4: Cantidad | F4: Motivo
C5: =IF(B5="","",IFERROR(INDEX(Stock!$B:$B,MATCH(B5,Stock!$A:$A,0)),"Código que no está en Stock"))
C6: =IF(B6="","",IFERROR(INDEX(Stock!$B:$B,MATCH(B6,Stock!$A:$A,0)),"Código que no está en Stock"))
C7: =IF(B7="","",IFERROR(INDEX(Stock!$B:$B,MATCH(B7,Stock!$A:$A,0)),"Código que no está en Stock"))
C8: =IF(B8="","",IFERROR(INDEX(Stock!$B:$B,MATCH(B8,Stock!$A:$A,0)),"Código que no está en Stock"))
C9: =IF(B9="","",IFERROR(INDEX(Stock!$B:$B,MATCH(B9,Stock!$A:$A,0)),"Código que no está en Stock"))
C10: =IF(B10="","",IFERROR(INDEX(Stock!$B:$B,MATCH(B10,Stock!$A:$A,0)),"Código que no está en Stock"))
C11: =IF(B11="","",IFERROR(INDEX(Stock!$B:$B,MATCH(B11,Stock!$A:$A,0)),"Código que no está en Stock"))
C12: =IF(B12="","",IFERROR(INDEX(Stock!$B:$B,MATCH(B12,Stock!$A:$A,0)),"Código que no está en Stock"))
C13: =IF(B13="","",IFERROR(INDEX(Stock!$B:$B,MATCH(B13,Stock!$A:$A,0)),"Código que no está en Stock"))
C14: =IF(B14="","",IFERROR(INDEX(Stock!$B:$B,MATCH(B14,Stock!$A:$A,0)),"Código que no está en Stock"))
C15: =IF(B15="","",IFERROR(INDEX(Stock!$B:$B,MATCH(B15,Stock!$A:$A,0)),"Código que no está en Stock"))
C16: =IF(B16="","",IFERROR(INDEX(Stock!$B:$B,MATCH(B16,Stock!$A:$A,0)),"Código que no está en Stock"))
... C1004: =IF(B1004="","",IFERROR(INDEX(Stock!$B:$B,MATCH(B1004,Stock!$A:$A,0)),"Código que no está en Stock"))
